BEGIN:VCALENDAR
VERSION:2.0
PRODID:-//AVIS Provinciale Modena - ECPv6.15.13//NONSGML v1.0//EN
CALSCALE:GREGORIAN
METHOD:PUBLISH
X-ORIGINAL-URL:https://modena.avisemiliaromagna.it
X-WR-CALDESC:Eventi per AVIS Provinciale Modena
REFRESH-INTERVAL;VALUE=DURATION:PT1H
X-Robots-Tag:noindex
X-PUBLISHED-TTL:PT1H
BEGIN:VTIMEZONE
TZID:Europe/Rome
BEGIN:DAYLIGHT
TZOFFSETFROM:+0100
TZOFFSETTO:+0200
TZNAME:CEST
DTSTART:20180325T010000
END:DAYLIGHT
BEGIN:STANDARD
TZOFFSETFROM:+0200
TZOFFSETTO:+0100
TZNAME:CET
DTSTART:20181028T010000
END:STANDARD
BEGIN:DAYLIGHT
TZOFFSETFROM:+0100
TZOFFSETTO:+0200
TZNAME:CEST
DTSTART:20190331T010000
END:DAYLIGHT
BEGIN:STANDARD
TZOFFSETFROM:+0200
TZOFFSETTO:+0100
TZNAME:CET
DTSTART:20191027T010000
END:STANDARD
BEGIN:DAYLIGHT
TZOFFSETFROM:+0100
TZOFFSETTO:+0200
TZNAME:CEST
DTSTART:20200329T010000
END:DAYLIGHT
BEGIN:STANDARD
TZOFFSETFROM:+0200
TZOFFSETTO:+0100
TZNAME:CET
DTSTART:20201025T010000
END:STANDARD
END:VTIMEZONE
BEGIN:VEVENT
DTSTART;TZID=Europe/Rome:20190801T213000
DTEND;TZID=Europe/Rome:20190801T213000
DTSTAMP:20260420T084903
CREATED:20190726T092934Z
LAST-MODIFIED:20200911T095350Z
UID:19168-1564695000-1564695000@modena.avisemiliaromagna.it
SUMMARY:Soliera\, incontro informativo
DESCRIPTION:Al parco della Resistenza di Soliera serata informativa sui corretti stili di vita da adottare per poter vivere una bella estate\, in collaborazione con il direttore sanitario Avis dottor Giampiero Olivetti e la dottoressa Cristiana Vanzini\, medico di base e specialista in malattie infettive. \n \n  \n  \nprogramma completo: \n\n\n\n    \n        \n            \n        \n        \n            \n                Soliera estate al parco 2019\n                \n                     185.21 KB\n                     4 downloads\n                \n            \n            ...\n        \n        \n            Download
URL:https://modena.avisemiliaromagna.it/eventi/soliera-incontro-informativo/
LOCATION:Modena
CATEGORIES:Avis Provinciale Modena
ATTACH;FMTTYPE=image/jpeg:https://modena.avisemiliaromagna.it/wp-content/uploads/2019/07/2019_08_01-Soliera-incontro-estate-al-parco-750x-1.jpg
END:VEVENT
BEGIN:VEVENT
DTSTART;TZID=Europe/Rome:20190803T190000
DTEND;TZID=Europe/Rome:20190803T190000
DTSTAMP:20260420T084903
CREATED:20190726T095954Z
LAST-MODIFIED:20190726T095956Z
UID:19176-1564858800-1564858800@modena.avisemiliaromagna.it
SUMMARY:Montefiorino\, festa del volontariato
DESCRIPTION:Serata di festa a Montefiorino organizzata dalle associazioni di volontariato. \n \n  \n 
URL:https://modena.avisemiliaromagna.it/eventi/montefiorino-festa-del-volontariato-2/
LOCATION:Modena
CATEGORIES:Avis Provinciale Modena
ATTACH;FMTTYPE=image/jpeg:https://modena.avisemiliaromagna.it/wp-content/uploads/2019/07/2019_08_03-Motefiorino_festa-del-volontariato.jpg
END:VEVENT
BEGIN:VEVENT
DTSTART;TZID=Europe/Rome:20190816T160000
DTEND;TZID=Europe/Rome:20190816T160000
DTSTAMP:20260420T084903
CREATED:20190702T110008Z
LAST-MODIFIED:20190702T110623Z
UID:18505-1565971200-1565971200@modena.avisemiliaromagna.it
SUMMARY:Frassinoro\, MTBirra
DESCRIPTION:MTBirra ovvero un bellissimo pomeriggio in montagna che può proseguire fino a sera. \nInfo: Anna 3343438185 – Gabry 3484741525 – ipifochi@gmail.com
URL:https://modena.avisemiliaromagna.it/eventi/frassinoro-mtbirra/
LOCATION:Modena
CATEGORIES:Avis Provinciale Modena
ATTACH;FMTTYPE=image/jpeg:https://modena.avisemiliaromagna.it/wp-content/uploads/2019/07/2019_08_16-Frassinoro-MTBirra-2.jpg
END:VEVENT
BEGIN:VEVENT
DTSTART;TZID=Europe/Rome:20190831T080000
DTEND;TZID=Europe/Rome:20190831T163000
DTSTAMP:20260420T084903
CREATED:20190820T103540Z
LAST-MODIFIED:20190820T103540Z
UID:19300-1567238400-1567269000@modena.avisemiliaromagna.it
SUMMARY:Modena\, Due artisti
DESCRIPTION:Mostra di Tomaso e Anna Rita Bonantini\,  padre e figlia accomunati dalla passione artistica che si esprime in maniera diversa: nel caso di Tomaso con sculture in creta che rappresentano il mondo rurale del passato\, mentre nel caso di Annarita con quadri di ispirazione più moderna dove è sempre presente un tocco di colore rosso. \nLa mostra verrà inaugurata il 31 agosto alle 16.30 e resterà aperta fino al 2 novembre nella sede Avis di Modena. tel. 0593684911. \n \n 
URL:https://modena.avisemiliaromagna.it/eventi/modena-due-artisti/
LOCATION:Modena
CATEGORIES:Avis Comunale Modena,Avis Provinciale Modena
ATTACH;FMTTYPE=image/jpeg:https://modena.avisemiliaromagna.it/wp-content/uploads/2019/08/Bonantini-mostra-agosto-novembre-2019.jpg
END:VEVENT
BEGIN:VEVENT
DTSTART;TZID=Europe/Rome:20190831T170000
DTEND;TZID=Europe/Rome:20190831T170000
DTSTAMP:20260420T084903
CREATED:20190810T101543Z
LAST-MODIFIED:20190831T064110Z
UID:19264-1567270800-1567270800@modena.avisemiliaromagna.it
SUMMARY:Sassuolo\, andar per Casiglie
DESCRIPTION:Per il secondo anno consecutivo l’Avis Comunale di Sassuolo partecipa attivamente alla realizzazione della corsa non competitiva ANDAR PER CASIGLIE. \nIl Sassuolo Calcio permetterà il passaggio attraverso il centro sportivo appena inaugurato  ed inoltre\, offrirà a tutti gli iscritti alla corsa\, la possibilità di assistere a Sassuolo – Sampdoria a soli 5€. \n“Ca Marta” offrirà un ristoro con acqua alcalina prima di proseguire costeggiando il lago per la pesca sportiva. \nIl Vivaio Benedetti ci consentirà l’attraversamento della propria struttura. \nGrazie ovviamente anche agli altri sponsor. \nL’AVIS mette a disposizione un Servizio Medico durante l’intero svolgimento della gara e sarà presente anche con un proprio stand informativo. \nVi aspettiamo numerosi! \n  \n(aggiornato 31/08/2019) \n \n 
URL:https://modena.avisemiliaromagna.it/eventi/sassuolo-andar-per-casiglie-2/
LOCATION:Modena
CATEGORIES:Avis Provinciale Modena
ATTACH;FMTTYPE=image/jpeg:https://modena.avisemiliaromagna.it/wp-content/uploads/2019/08/2019_08_31-Avis-Sassuolo-Andar-per-Casiglie.jpg
END:VEVENT
END:VCALENDAR