BEGIN:VCALENDAR
VERSION:2.0
PRODID:-//AVIS Provinciale Modena - ECPv6.15.13//NONSGML v1.0//EN
CALSCALE:GREGORIAN
METHOD:PUBLISH
X-ORIGINAL-URL:https://modena.avisemiliaromagna.it
X-WR-CALDESC:Eventi per AVIS Provinciale Modena
REFRESH-INTERVAL;VALUE=DURATION:PT1H
X-Robots-Tag:noindex
X-PUBLISHED-TTL:PT1H
BEGIN:VTIMEZONE
TZID:Europe/Rome
BEGIN:DAYLIGHT
TZOFFSETFROM:+0100
TZOFFSETTO:+0200
TZNAME:CEST
DTSTART:20180325T010000
END:DAYLIGHT
BEGIN:STANDARD
TZOFFSETFROM:+0200
TZOFFSETTO:+0100
TZNAME:CET
DTSTART:20181028T010000
END:STANDARD
BEGIN:DAYLIGHT
TZOFFSETFROM:+0100
TZOFFSETTO:+0200
TZNAME:CEST
DTSTART:20190331T010000
END:DAYLIGHT
BEGIN:STANDARD
TZOFFSETFROM:+0200
TZOFFSETTO:+0100
TZNAME:CET
DTSTART:20191027T010000
END:STANDARD
BEGIN:DAYLIGHT
TZOFFSETFROM:+0100
TZOFFSETTO:+0200
TZNAME:CEST
DTSTART:20200329T010000
END:DAYLIGHT
BEGIN:STANDARD
TZOFFSETFROM:+0200
TZOFFSETTO:+0100
TZNAME:CET
DTSTART:20201025T010000
END:STANDARD
END:VTIMEZONE
BEGIN:VEVENT
DTSTART;TZID=Europe/Rome:20190903T080000
DTEND;TZID=Europe/Rome:20190903T170000
DTSTAMP:20260420T070415
CREATED:20190903T102508Z
LAST-MODIFIED:20190903T102508Z
UID:19375-1567497600-1567530000@modena.avisemiliaromagna.it
SUMMARY:Guiglia\, 1° torneo di Calcio d'autunno
DESCRIPTION:Vi aspettiamo per una bella giornata insieme ai pulcini del calcio! \n \n 
URL:https://modena.avisemiliaromagna.it/eventi/guiglia-1-torneo-di-calcio-dautunno/
LOCATION:Modena
CATEGORIES:Avis Provinciale Modena
ATTACH;FMTTYPE=image/jpeg:https://modena.avisemiliaromagna.it/wp-content/uploads/2016/09/Pinguino-calcio-767.jpg
END:VEVENT
BEGIN:VEVENT
DTSTART;TZID=Europe/Rome:20190903T203000
DTEND;TZID=Europe/Rome:20190903T203000
DTSTAMP:20260420T070415
CREATED:20190627T070558Z
LAST-MODIFIED:20190826T071720Z
UID:18423-1567542600-1567542600@modena.avisemiliaromagna.it
SUMMARY:Formigine\, Il factotum del collegio
DESCRIPTION:La compagnia “Tra saccià e panèra”\, che aveva dovuto rinviare la sua esibizione a causa del maltempo\, sarà sul palco martedì 3 settembre\, ore 20.30.  Ingresso libero. \n \n(aggiornato il 26/08/2019) \n  \n  \n 
URL:https://modena.avisemiliaromagna.it/eventi/formigine-il-factotum-del-collegio/
LOCATION:Modena
CATEGORIES:Avis Formigine,Avis Provinciale Modena
ATTACH;FMTTYPE=image/jpeg:https://modena.avisemiliaromagna.it/wp-content/uploads/2019/06/2019_07_15-Formigine-Villa-Benvenuti_titolo.jpg
END:VEVENT
BEGIN:VEVENT
DTSTART;TZID=Europe/Rome:20190906T200000
DTEND;TZID=Europe/Rome:20190906T200000
DTSTAMP:20260420T070415
CREATED:20190810T084909Z
LAST-MODIFIED:20190810T093008Z
UID:19251-1567800000-1567800000@modena.avisemiliaromagna.it
SUMMARY:Burraco\, che passione!
DESCRIPTION:Partecipa anche tu al primo grande torneo Avis di burraco\, un gioco che piace sempre di più ed è sempre più diffuso. \nInfo: Avis Provinciale Modena tel. 0593684911 Per iscriverti compila il modulo allegato. \n\n\n\n    \n        \n            \n            \n                Modulo iscrizione torneo di burraco\n                 1 file  175.58 KB\n            \n            \n                Download
URL:https://modena.avisemiliaromagna.it/eventi/burraco-che-passione/
LOCATION:Modena
CATEGORIES:Avis Comunale Modena,Avis Provinciale Modena
ATTACH;FMTTYPE=image/jpeg:https://modena.avisemiliaromagna.it/wp-content/uploads/2019/08/Burraco-Avis-2019.jpg
END:VEVENT
BEGIN:VEVENT
DTSTART;TZID=Europe/Rome:20190907T140000
DTEND;TZID=Europe/Rome:20190908T200000
DTSTAMP:20260420T070415
CREATED:20190903T070039Z
LAST-MODIFIED:20190903T071228Z
UID:19354-1567864800-1567972800@modena.avisemiliaromagna.it
SUMMARY:Vignola\, torna Bambinopoli
DESCRIPTION:Torna Bambinopoli  a Vignola\, sabato 7 settembre dalle 10 alle 23 e domenica 8 settembre dalle 09.30 alle 20. \nIl tema di quest’anno è “Pianeta è Vita”. Grandi di piccoli potranno diversi e giocare insieme imparando l’importanza del rispetto delle risorse naturali\, della sana alimentazione e dell’attività fisica. \nTrovi il programma alla pagina https://www.bambinopolivignola.it/
URL:https://modena.avisemiliaromagna.it/eventi/vignola-torna-bambinopoli/
LOCATION:Modena
CATEGORIES:Avis Provinciale Modena,Avis Vignola
ATTACH;FMTTYPE=image/jpeg:https://modena.avisemiliaromagna.it/wp-content/uploads/2019/07/Avis-Vignola-Bambinopoli-2019.jpg
END:VEVENT
BEGIN:VEVENT
DTSTART;TZID=Europe/Rome:20190908T150000
DTEND;TZID=Europe/Rome:20190908T200000
DTSTAMP:20260420T070415
CREATED:20190819T100418Z
LAST-MODIFIED:20190820T104026Z
UID:19281-1567954800-1567972800@modena.avisemiliaromagna.it
SUMMARY:Festa solidarietà al Parco Amendola
DESCRIPTION:Domenica 8 settembre vi aspettiamo al parco Amendola per la festa della solidarietà\, organizzata in collaborazione con il Circolo Vivere Insieme e il Centro Sociale Anziani e orti B.Pastore. \nPresso la Casa colonica Vivere Insieme\, un intero pomeriggio di festa (anche in caso di maltempo)\, dedicato all’importanza della solidarietà! \n\nore 15.00 – Intrattenimento Musicale con dj Angelo \nore 16.00 – Gnocco fritto con salumi e bevande\, offerto da Grandi Salumifici Italiani\nore 19.00 Estrazione Biglietti \nore 20.00 – chiusura della festa\n\nDurante la festa sarà distribuito materiale informativo e promozionale di AVIS e AIDO e palloncini colorati per tutti i bambini!  \nL’INTERO INCASSO SARA’ DEVOLUTO A FAVORE DELL’AVIS E DELL’AIDO \n  \nQui la locandina dell’evento\nFesta solidarietà parco Amendola – Avis Comunale Modena 2019_09_08
URL:https://modena.avisemiliaromagna.it/eventi/festa-solidarieta-al-parco-amendola/
LOCATION:Modena
CATEGORIES:Avis Comunale Modena,Avis Provinciale Modena
ATTACH;FMTTYPE=image/jpeg:https://modena.avisemiliaromagna.it/wp-content/uploads/2018/09/2018_09_09-Festa-solidarieta-Parco-Amendola-logo.jpg
END:VEVENT
BEGIN:VEVENT
DTSTART;TZID=Europe/Rome:20190908T160000
DTEND;TZID=Europe/Rome:20190908T183000
DTSTAMP:20260420T070415
CREATED:20190831T095235Z
LAST-MODIFIED:20190902T091042Z
UID:19347-1567958400-1567967400@modena.avisemiliaromagna.it
SUMMARY:Piumazzo a colori 5.0
DESCRIPTION:Avis di Piumazzo vi invita ad un evento fatto di sport e allegria con la Camminata a colori di domenica 8 settembre. La camminata si inserisce nell’inziativa “sports day” organizzata da Arcispazio di Piumazzo. \nAvis e sport è un binomio sempre vincente! \n \n \n 
URL:https://modena.avisemiliaromagna.it/eventi/piumazzo-a-colori-5-0/
LOCATION:Modena
CATEGORIES:Avis Piumazzo,Avis Provinciale Modena
ATTACH;FMTTYPE=image/jpeg:https://modena.avisemiliaromagna.it/wp-content/uploads/2019/08/2019_09_08-Piumazzo-a-colori-corsa-colorata.jpg
END:VEVENT
BEGIN:VEVENT
DTSTART;TZID=Europe/Rome:20190910T203000
DTEND;TZID=Europe/Rome:20190910T203000
DTSTAMP:20260420T070415
CREATED:20190625T113450Z
LAST-MODIFIED:20190826T071552Z
UID:18400-1568147400-1568147400@modena.avisemiliaromagna.it
SUMMARY:Formigine\, Na sira in alegria
DESCRIPTION:E’ stata rinviata a martedì 10 settembre alle 20.30 l’esibizione della compagnia “Al Navéli” cancellata per il maltempo. Ingresso libero. Vi aspettiamo! \n \n(aggiornata il 26/08/2019) \n \n  \n 
URL:https://modena.avisemiliaromagna.it/eventi/formigine-na-sira-in-alegria/
LOCATION:Modena
CATEGORIES:Avis Formigine,Avis Provinciale Modena
ATTACH;FMTTYPE=image/jpeg:https://modena.avisemiliaromagna.it/wp-content/uploads/2019/06/2019_07_09-Formigine-Villa-Benvenuti_titolo.jpg
END:VEVENT
BEGIN:VEVENT
DTSTART;TZID=Europe/Rome:20190913T200000
DTEND;TZID=Europe/Rome:20190913T200000
DTSTAMP:20260420T070415
CREATED:20190730T060033Z
LAST-MODIFIED:20190810T090949Z
UID:19205-1568404800-1568404800@modena.avisemiliaromagna.it
SUMMARY:Modena\, un pinnacolo da record.. sempre più record!
DESCRIPTION:Un grande torneo alla portata di tutti: non mancare a questo appuntamento per raggiungere un nuovo record di presenze e trascorrere una serata di gioco e divertimento! Info: 0593684911 \n\n\n\n    \n        \n            \n            \n                Regolamento Pinnacolo Avis 2019\n                 1 file  211.52 KB\n            \n            \n                Download\n            \n        \n    \n\n\n\n\n\n\n    \n        \n            \n            \n                Modulo iscrizione Pinnacolo 2019\n                 1 file  110.78 KB\n            \n            \n                Download
URL:https://modena.avisemiliaromagna.it/eventi/modena-un-pinnacolo-da-record-sempre-piu-record/
LOCATION:Modena
CATEGORIES:Avis Comunale Modena,Avis Provinciale Modena
ATTACH;FMTTYPE=image/jpeg:https://modena.avisemiliaromagna.it/wp-content/uploads/2019/07/Pinnacolo-Avis-anno-2019.jpg
END:VEVENT
BEGIN:VEVENT
DTSTART;TZID=Europe/Rome:20190914T203000
DTEND;TZID=Europe/Rome:20190914T203000
DTSTAMP:20260420T070415
CREATED:20190913T062210Z
LAST-MODIFIED:20190913T062301Z
UID:19407-1568493000-1568493000@modena.avisemiliaromagna.it
SUMMARY:Guiglia\, cena sociale
DESCRIPTION:Cena sociale aperta a tutti! \n \n 
URL:https://modena.avisemiliaromagna.it/eventi/guiglia-cena-sociale/
LOCATION:Modena
CATEGORIES:Avis Provinciale Modena
ATTACH;FMTTYPE=image/jpeg:https://modena.avisemiliaromagna.it/wp-content/uploads/2019/09/2019_09_14-Guiglia-Cena-sociale-Avis.jpg
END:VEVENT
BEGIN:VEVENT
DTSTART;TZID=Europe/Rome:20190915T070000
DTEND;TZID=Europe/Rome:20190915T150000
DTSTAMP:20260420T070415
CREATED:20190913T064144Z
LAST-MODIFIED:20190913T065558Z
UID:19414-1568530800-1568559600@modena.avisemiliaromagna.it
SUMMARY:Formigine\, Granfondo Avis
DESCRIPTION:Per gli appassionati della bicicletta\, domenica 15 settembre\, da non perdere il “Granfondo Avis”. \n \n \n 
URL:https://modena.avisemiliaromagna.it/eventi/formigine-granfondo-avis/
LOCATION:Modena
CATEGORIES:Avis Formigine,Avis Provinciale Modena
ATTACH;FMTTYPE=image/jpeg:https://modena.avisemiliaromagna.it/wp-content/uploads/2019/09/2019_09_15-Formigine-cicloraduno-avis.jpg
END:VEVENT
BEGIN:VEVENT
DTSTART;TZID=Europe/Rome:20190915T093000
DTEND;TZID=Europe/Rome:20190915T180000
DTSTAMP:20260420T070415
CREATED:20190913T062737Z
LAST-MODIFIED:20190913T111050Z
UID:19411-1568539800-1568570400@modena.avisemiliaromagna.it
SUMMARY:Guiglia\, trofeo calcio categoria pulcini
DESCRIPTION:Una giornata di sport e divertimento per i bambini e famiglie. \n \n 
URL:https://modena.avisemiliaromagna.it/eventi/guiglia-trofeo-calcio-categoria-pulcini/
LOCATION:Modena
CATEGORIES:Avis Provinciale Modena
ATTACH;FMTTYPE=image/jpeg:https://modena.avisemiliaromagna.it/wp-content/uploads/2019/09/2019_09_15-Guiglia-Torneo-calcio-pulcini.jpg
END:VEVENT
BEGIN:VEVENT
DTSTART;TZID=Europe/Rome:20190921T150000
DTEND;TZID=Europe/Rome:20190921T190000
DTSTAMP:20260420T070415
CREATED:20190810T094919Z
LAST-MODIFIED:20190810T095540Z
UID:19262-1569078000-1569092400@modena.avisemiliaromagna.it
SUMMARY:Mi diverto seriamente\, vinci un pomeriggio con Julio Velasco
DESCRIPTION:Avis provinciale dà la possibilità a 10 associati Avis della provincia di partecipare gratuitamente all’incontro di formazione con Julio Velasco “il migliore di tutti” sabato 21 settembre al Palapanini. \nPer partecipare occorrerà compilare il modulo sottostante e inviarlo all’indirizzo concorso@avismodena.it entro sabato 7 settembre 2019. L’estrazione degli ingressi omaggio avverrà mercoledì 11 settembre e i fortunati saranno avvertiti direttamente da Avis. \nPotranno partecipare esclusivamente i soci in possesso della tessera Avis. \nE’ già possibile comunque acquistare i biglietti a prezzo intero (euro 80) sul circuito TIKETONE. \n\n\n\n    \n        \n            \n            \n                Richiesta partecipazione estrazione biglietti - Velasco\n                 1 file  307.88 KB\n            \n            \n                Download
URL:https://modena.avisemiliaromagna.it/eventi/mi-diverto-seriamente-vinci-un-pomeriggio-con-julio-velasco/
LOCATION:Modena
CATEGORIES:Avis Comunale Modena,Avis Provinciale Modena
ATTACH;FMTTYPE=image/jpeg:https://modena.avisemiliaromagna.it/wp-content/uploads/2019/08/Julio-Velasco-midivertoseriamente-Avis-Fipav-21_09_2019.jpg
END:VEVENT
BEGIN:VEVENT
DTSTART;TZID=Europe/Rome:20190929T160000
DTEND;TZID=Europe/Rome:20190929T160000
DTSTAMP:20260420T070415
CREATED:20190924T072103Z
LAST-MODIFIED:20190924T072243Z
UID:19654-1569772800-1569772800@modena.avisemiliaromagna.it
SUMMARY:Solignano\, Festa del donatore
DESCRIPTION:Avis Solignano invita i donatori della sezione e le Avis consorelle a partecipare ad un pomeriggio festoso!
URL:https://modena.avisemiliaromagna.it/eventi/solignano-festa-del-donatore/
LOCATION:Modena
CATEGORIES:Avis Provinciale Modena
ATTACH;FMTTYPE=image/jpeg:https://modena.avisemiliaromagna.it/wp-content/uploads/2019/09/2019_09_29-Solignano-festa-del-donatore.jpg
END:VEVENT
END:VCALENDAR