BEGIN:VCALENDAR
VERSION:2.0
PRODID:-//AVIS Provinciale Modena - ECPv6.15.13//NONSGML v1.0//EN
CALSCALE:GREGORIAN
METHOD:PUBLISH
X-WR-CALNAME:AVIS Provinciale Modena
X-ORIGINAL-URL:https://modena.avisemiliaromagna.it
X-WR-CALDESC:Eventi per AVIS Provinciale Modena
REFRESH-INTERVAL;VALUE=DURATION:PT1H
X-Robots-Tag:noindex
X-PUBLISHED-TTL:PT1H
BEGIN:VTIMEZONE
TZID:Europe/Rome
BEGIN:DAYLIGHT
TZOFFSETFROM:+0100
TZOFFSETTO:+0200
TZNAME:CEST
DTSTART:20190331T010000
END:DAYLIGHT
BEGIN:STANDARD
TZOFFSETFROM:+0200
TZOFFSETTO:+0100
TZNAME:CET
DTSTART:20191027T010000
END:STANDARD
BEGIN:DAYLIGHT
TZOFFSETFROM:+0100
TZOFFSETTO:+0200
TZNAME:CEST
DTSTART:20200329T010000
END:DAYLIGHT
BEGIN:STANDARD
TZOFFSETFROM:+0200
TZOFFSETTO:+0100
TZNAME:CET
DTSTART:20201025T010000
END:STANDARD
BEGIN:DAYLIGHT
TZOFFSETFROM:+0100
TZOFFSETTO:+0200
TZNAME:CEST
DTSTART:20210328T010000
END:DAYLIGHT
BEGIN:STANDARD
TZOFFSETFROM:+0200
TZOFFSETTO:+0100
TZNAME:CET
DTSTART:20211031T010000
END:STANDARD
END:VTIMEZONE
BEGIN:VEVENT
DTSTART;TZID=Europe/Rome:20200202T163000
DTEND;TZID=Europe/Rome:20200202T163000
DTSTAMP:20260419T194736
CREATED:20200112T073055Z
LAST-MODIFIED:20200130T095301Z
UID:20910-1580661000-1580661000@modena.avisemiliaromagna.it
SUMMARY:Mirandola\, Incontro con Mons. Viganò
DESCRIPTION:Monsignor Viganò importante figura nel mondo della comunicazione della Santa Sede\, sarà il protagonista del secondo “Incontro con l’autore” organizzato da Avis Mirandola.  Affronterà il tema “I luoghi della socialità”\, al centro degli incontri di quest’anno\, attraverso il suo ultimo libro “Il Cinema dei Papi” con il supporto di documenti inediti della filmoteca vaticana. Ingresso libero. \n(aggiornato il 30/01/2020) \n \n 
URL:https://modena.avisemiliaromagna.it/eventi/mirandola-incontro-con-mons-vigano/
LOCATION:Modena
CATEGORIES:Avis Provinciale Modena
ATTACH;FMTTYPE=image/jpeg:https://modena.avisemiliaromagna.it/wp-content/uploads/2020/01/2020_02_02-Avis-Mirandola-invito-Mons-Dario-Viganò.jpg
END:VEVENT
BEGIN:VEVENT
DTSTART;TZID=Europe/Rome:20200202T170000
DTEND;TZID=Europe/Rome:20200202T170000
DTSTAMP:20260419T194736
CREATED:20200130T155339Z
LAST-MODIFIED:20200130T155736Z
UID:21184-1580662800-1580662800@modena.avisemiliaromagna.it
SUMMARY:Spilamberto\, serate jazz in un semestre pieno di eventi
DESCRIPTION:Incontri musicali all’Osteria del 32 preceduti da un aperitivo. Il primo appuntamento è domenica 2 febbraio. Prenotazioni al n. 059781991 \n 
URL:https://modena.avisemiliaromagna.it/eventi/spilamberto-serate-jazz-in-un-semestre-pieno-di-eventi/
LOCATION:Modena
CATEGORIES:Avis Provinciale Modena,Avis Spilamberto
ATTACH;FMTTYPE=image/jpeg:https://modena.avisemiliaromagna.it/wp-content/uploads/2020/01/Spilamberto-Jazz.jpg
END:VEVENT
BEGIN:VEVENT
DTSTART;TZID=Europe/Rome:20200208T160000
DTEND;TZID=Europe/Rome:20200208T160000
DTSTAMP:20260419T194736
CREATED:20200131T142839Z
LAST-MODIFIED:20200131T142927Z
UID:21189-1581177600-1581177600@modena.avisemiliaromagna.it
SUMMARY:Modena\, mostra fotografica Alter Orbi
DESCRIPTION:La mostra proposta dal Collettivo Condividendo dal titolo “Alter Orbi” è una galleria fotografica delle opere nate da un progetto di avanguardia artistica che reinterpreta il design di oggetti facendo in modo che trascendono la loro funzionalità e assumono una nuova dimensione artistica. \nL’inaugurazione della mostra è prevista alle 16.00 di sabato 8 febbraio nella sede Avis Provinciale di Modena.\nResterà aperta fino 3 maggio e sarà visitabile dal lunedì al sabato dalle 7.30 alle 12 e la domenica dalle 7.30 alle 11. Per altri orari telefonare ad Avis allo 059 3684911
URL:https://modena.avisemiliaromagna.it/eventi/modena-mostra-fotografica-alter-orbi/
LOCATION:Modena
CATEGORIES:Avis Comunale Modena,Avis Provinciale Modena
ATTACH;FMTTYPE=image/jpeg:https://modena.avisemiliaromagna.it/wp-content/uploads/2020/01/Aivis-Modena-Mostra-Alter-Orbi-grovigli.jpg
END:VEVENT
BEGIN:VEVENT
DTSTART;TZID=Europe/Rome:20200211T204500
DTEND;TZID=Europe/Rome:20200211T204500
DTSTAMP:20260419T194736
CREATED:20200206T111338Z
LAST-MODIFIED:20200207T073841Z
UID:21204-1581453900-1581453900@modena.avisemiliaromagna.it
SUMMARY:Medolla\, Cosa c'è da mangiare?
DESCRIPTION:La serata con il dott. Franco Caroli\, medico omeopata e psicoterapeuta\, si propone di definire alcune linee guida per gestire la “fame” dei figli adolescenti\, aiutandoli a costruire un rapporto sano e responsabile con le loro scelte alimentari. \nL’inziativa dal titolo  “Cosa c’è da mangiare? Ho fame!” è organizzata per martedì 11 febbraio alle 20.45 al Teatro Facchini di Medolla. Ingresso libero. \n \n  \n 
URL:https://modena.avisemiliaromagna.it/eventi/medolla-cosa-ce-da-mangiare/
LOCATION:Modena
CATEGORIES:Avis Provinciale Modena
ATTACH;FMTTYPE=image/jpeg:https://modena.avisemiliaromagna.it/wp-content/uploads/2020/01/Avis-medolla-alimentazione-2020-300x200-1.jpg
END:VEVENT
BEGIN:VEVENT
DTSTART;TZID=Europe/Rome:20200216T170000
DTEND;TZID=Europe/Rome:20200216T170000
DTSTAMP:20260419T194736
CREATED:20200206T112948Z
LAST-MODIFIED:20200207T110957Z
UID:21206-1581872400-1581872400@modena.avisemiliaromagna.it
SUMMARY:Spilamberto\, serata di jazz con Luca Barbieri tiro
DESCRIPTION:Secondo appuntamento con la buona musica e con Luca Barbieri Trio. Prenotazioni 059781991 \n \n 
URL:https://modena.avisemiliaromagna.it/eventi/spilamberto-serata-di-jazz-con-luca-barbieri-tiro/
LOCATION:Modena
CATEGORIES:Avis Provinciale Modena,Avis Spilamberto
ATTACH;FMTTYPE=image/jpeg:https://modena.avisemiliaromagna.it/wp-content/uploads/2020/02/2020_02_26-Spilamberto-Jazz-2-serata.jpg
END:VEVENT
BEGIN:VEVENT
DTSTART;TZID=Europe/Rome:20200219T204500
DTEND;TZID=Europe/Rome:20200219T204500
DTSTAMP:20260419T194736
CREATED:20200211T084110Z
LAST-MODIFIED:20200211T110157Z
UID:21242-1582145100-1582145100@modena.avisemiliaromagna.it
SUMMARY:Medolla\, adolescenza: istruzioni per l'uso! Le dipendenze
DESCRIPTION:Avis Medolla vi invita a partecipare a tre incontri con Mario Enrico Cerrone\, filosofo ed educatore\, sul sulla gestione del rapporto genitori-adolescenti\, con particolare attenzione ai temi della dipendenza\, all’uso dei nuovi media  e della comunicazione. Ingresso libero.
URL:https://modena.avisemiliaromagna.it/eventi/medolla-adolescenza-istruzioni-per-luso-le-dipendenze/
LOCATION:Modena
CATEGORIES:Avis Provinciale Modena
ATTACH;FMTTYPE=image/jpeg:https://modena.avisemiliaromagna.it/wp-content/uploads/2020/02/2020_02_19-Progetto-Genitorialita-Medolla-.jpg
END:VEVENT
END:VCALENDAR