BEGIN:VCALENDAR
VERSION:2.0
PRODID:-//AVIS Provinciale Modena - ECPv6.15.13//NONSGML v1.0//EN
CALSCALE:GREGORIAN
METHOD:PUBLISH
X-WR-CALNAME:AVIS Provinciale Modena
X-ORIGINAL-URL:https://modena.avisemiliaromagna.it
X-WR-CALDESC:Eventi per AVIS Provinciale Modena
REFRESH-INTERVAL;VALUE=DURATION:PT1H
X-Robots-Tag:noindex
X-PUBLISHED-TTL:PT1H
BEGIN:VTIMEZONE
TZID:Europe/Rome
BEGIN:DAYLIGHT
TZOFFSETFROM:+0100
TZOFFSETTO:+0200
TZNAME:CEST
DTSTART:20190331T010000
END:DAYLIGHT
BEGIN:STANDARD
TZOFFSETFROM:+0200
TZOFFSETTO:+0100
TZNAME:CET
DTSTART:20191027T010000
END:STANDARD
BEGIN:DAYLIGHT
TZOFFSETFROM:+0100
TZOFFSETTO:+0200
TZNAME:CEST
DTSTART:20200329T010000
END:DAYLIGHT
BEGIN:STANDARD
TZOFFSETFROM:+0200
TZOFFSETTO:+0100
TZNAME:CET
DTSTART:20201025T010000
END:STANDARD
BEGIN:DAYLIGHT
TZOFFSETFROM:+0100
TZOFFSETTO:+0200
TZNAME:CEST
DTSTART:20210328T010000
END:DAYLIGHT
BEGIN:STANDARD
TZOFFSETFROM:+0200
TZOFFSETTO:+0100
TZNAME:CET
DTSTART:20211031T010000
END:STANDARD
END:VTIMEZONE
BEGIN:VEVENT
DTSTART;TZID=Europe/Rome:20200304T204500
DTEND;TZID=Europe/Rome:20200304T204500
DTSTAMP:20260419T164027
CREATED:20200211T085329Z
LAST-MODIFIED:20200302T113442Z
UID:21247-1583354700-1583354700@modena.avisemiliaromagna.it
SUMMARY:Medolla\, come cambia la relazione in adolescenza? (annullato)
DESCRIPTION:(Evento ANNULLATO causa misure di prevenzione contro la diffusione del Coronavirus) \nNell’ultimo incontro Mario Enrico Cerrigone\, parlerà di come riuscire a comunicare con gli adolescenti di temi delicati e sensibili in un rapporto che spesso diventa conflittuale e rivendicativo. Ingresso libero. \n  \n \n \n  \n  \n 
URL:https://modena.avisemiliaromagna.it/eventi/medolla-come-cambia-la-relazione-in-adolescenza/
LOCATION:Modena
CATEGORIES:Avis Provinciale Modena
ATTACH;FMTTYPE=image/jpeg:https://modena.avisemiliaromagna.it/wp-content/uploads/2020/02/2020_02_19-Progetto-Genitorialita-Medolla-.jpg
END:VEVENT
BEGIN:VEVENT
DTSTART;TZID=Europe/Rome:20200307T140000
DTEND;TZID=Europe/Rome:20200307T140000
DTSTAMP:20260419T164027
CREATED:20200215T074717Z
LAST-MODIFIED:20210113T100117Z
UID:21277-1583589600-1583589600@modena.avisemiliaromagna.it
SUMMARY:Formigine\, iocidodibagher (annullato)
DESCRIPTION:(Gli organizzatori hanno comunicato che l’iniziativa è ANNULLATA) \nAvis di Formigine vi invita alla 7° edizione della manifestazione “IOCIDODIBAGHER”\, una maratona non competitiva di partite di pallavolo per vivere lo sport in maniera solidale concludendo la giornata con una cena conviviale. \nLa manifestazione è realizzata con i ragazzi seguiti dai Centri di Salute Mentale della provincia di Modena. \nIscrizioni: Alle il Gigante 3398723446 – alb8ni@alice.it \n \n(aggiornato 03/03/2020)
URL:https://modena.avisemiliaromagna.it/eventi/formigine-iocidodibagher/
LOCATION:Modena
CATEGORIES:Avis Formigine,Avis Provinciale Modena
ATTACH;FMTTYPE=image/jpeg:https://modena.avisemiliaromagna.it/wp-content/uploads/2020/02/2020_03_07-Formigine-Iocidodibagher-2020.jpg
END:VEVENT
END:VCALENDAR