BEGIN:VCALENDAR
VERSION:2.0
PRODID:-//AVIS Provinciale Modena - ECPv6.15.13//NONSGML v1.0//EN
CALSCALE:GREGORIAN
METHOD:PUBLISH
X-ORIGINAL-URL:https://modena.avisemiliaromagna.it
X-WR-CALDESC:Eventi per AVIS Provinciale Modena
REFRESH-INTERVAL;VALUE=DURATION:PT1H
X-Robots-Tag:noindex
X-PUBLISHED-TTL:PT1H
BEGIN:VTIMEZONE
TZID:Europe/Rome
BEGIN:DAYLIGHT
TZOFFSETFROM:+0100
TZOFFSETTO:+0200
TZNAME:CEST
DTSTART:20180325T010000
END:DAYLIGHT
BEGIN:STANDARD
TZOFFSETFROM:+0200
TZOFFSETTO:+0100
TZNAME:CET
DTSTART:20181028T010000
END:STANDARD
BEGIN:DAYLIGHT
TZOFFSETFROM:+0100
TZOFFSETTO:+0200
TZNAME:CEST
DTSTART:20190331T010000
END:DAYLIGHT
BEGIN:STANDARD
TZOFFSETFROM:+0200
TZOFFSETTO:+0100
TZNAME:CET
DTSTART:20191027T010000
END:STANDARD
BEGIN:DAYLIGHT
TZOFFSETFROM:+0100
TZOFFSETTO:+0200
TZNAME:CEST
DTSTART:20200329T010000
END:DAYLIGHT
BEGIN:STANDARD
TZOFFSETFROM:+0200
TZOFFSETTO:+0100
TZNAME:CET
DTSTART:20201025T010000
END:STANDARD
END:VTIMEZONE
BEGIN:VEVENT
DTSTART;TZID=Europe/Rome:20190726T190000
DTEND;TZID=Europe/Rome:20190730T233000
DTSTAMP:20260424T171833
CREATED:20190721T191315Z
LAST-MODIFIED:20190726T205036Z
UID:19043-1564167600-1564529400@modena.avisemiliaromagna.it
SUMMARY:Fiera di Luglio di Campogalliano: Avis c'è!
DESCRIPTION:Finalmente è ora di far festa  alla tradizionale FIERA DI LUGLIO DI CAMPOGALLIANO! \nFuochi artificiali\, concerti\, mostre\, stand gastronomici e tanto altro!! \nAVIS sarà presente le serate di sabato e domenica\, Vieni a trovarci nel nostro stand: ti aspetta tanta buona frutta! \n  \n 
URL:https://modena.avisemiliaromagna.it/eventi/fiera-di-luglio-di-campogalliano-avis-ce/
CATEGORIES:Avis Campogalliano,Avis Provinciale Modena
ATTACH;FMTTYPE=image/jpeg:https://modena.avisemiliaromagna.it/wp-content/uploads/2019/07/programma-fiera-1.jpg
END:VEVENT
END:VCALENDAR