BEGIN:VCALENDAR
VERSION:2.0
PRODID:-//AVIS Provinciale Modena - ECPv6.15.13//NONSGML v1.0//EN
CALSCALE:GREGORIAN
METHOD:PUBLISH
X-ORIGINAL-URL:https://modena.avisemiliaromagna.it
X-WR-CALDESC:Eventi per AVIS Provinciale Modena
REFRESH-INTERVAL;VALUE=DURATION:PT1H
X-Robots-Tag:noindex
X-PUBLISHED-TTL:PT1H
BEGIN:VTIMEZONE
TZID:Europe/Rome
BEGIN:DAYLIGHT
TZOFFSETFROM:+0100
TZOFFSETTO:+0200
TZNAME:CEST
DTSTART:20180325T010000
END:DAYLIGHT
BEGIN:STANDARD
TZOFFSETFROM:+0200
TZOFFSETTO:+0100
TZNAME:CET
DTSTART:20181028T010000
END:STANDARD
BEGIN:DAYLIGHT
TZOFFSETFROM:+0100
TZOFFSETTO:+0200
TZNAME:CEST
DTSTART:20190331T010000
END:DAYLIGHT
BEGIN:STANDARD
TZOFFSETFROM:+0200
TZOFFSETTO:+0100
TZNAME:CET
DTSTART:20191027T010000
END:STANDARD
BEGIN:DAYLIGHT
TZOFFSETFROM:+0100
TZOFFSETTO:+0200
TZNAME:CEST
DTSTART:20200329T010000
END:DAYLIGHT
BEGIN:STANDARD
TZOFFSETFROM:+0200
TZOFFSETTO:+0100
TZNAME:CET
DTSTART:20201025T010000
END:STANDARD
END:VTIMEZONE
BEGIN:VEVENT
DTSTART;TZID=Europe/Rome:20191012T160000
DTEND;TZID=Europe/Rome:20191013T220000
DTSTAMP:20260420T070906
CREATED:20191008T103115Z
LAST-MODIFIED:20191008T113626Z
UID:20064-1570896000-1571004000@modena.avisemiliaromagna.it
SUMMARY:Novi\, borlenghi e torneo di ping pong
DESCRIPTION:In occasione della fiera d’ottobre\, Avis Novi propone gustosi borlenghi il sabato 12 ottobre dalle 16.00 e domenica 13 ottobre dalle 20.00. Inoltre Domenica 13 ottobre\, dalle 10.00\, torneo di ping pong per soli dilettanti. Iscrizione entro le 18.00 del  12 ottobre al  3351421137. \n  \n \n 
URL:https://modena.avisemiliaromagna.it/eventi/novi-borlenghi-e-torneo-di-ping-pong/
LOCATION:Modena
CATEGORIES:Avis Novi,Avis Provinciale Modena
ATTACH;FMTTYPE=image/jpeg:https://modena.avisemiliaromagna.it/wp-content/uploads/2019/10/2019_10_12-e-13-Novi-Borlengo-e-torneo-ping-pong.jpg
END:VEVENT
END:VCALENDAR