BEGIN:VCALENDAR
VERSION:2.0
PRODID:-//AVIS Provinciale Modena - ECPv6.15.13//NONSGML v1.0//EN
CALSCALE:GREGORIAN
METHOD:PUBLISH
X-WR-CALNAME:AVIS Provinciale Modena
X-ORIGINAL-URL:https://modena.avisemiliaromagna.it
X-WR-CALDESC:Eventi per AVIS Provinciale Modena
REFRESH-INTERVAL;VALUE=DURATION:PT1H
X-Robots-Tag:noindex
X-PUBLISHED-TTL:PT1H
BEGIN:VTIMEZONE
TZID:Europe/Rome
BEGIN:DAYLIGHT
TZOFFSETFROM:+0100
TZOFFSETTO:+0200
TZNAME:CEST
DTSTART:20180325T010000
END:DAYLIGHT
BEGIN:STANDARD
TZOFFSETFROM:+0200
TZOFFSETTO:+0100
TZNAME:CET
DTSTART:20181028T010000
END:STANDARD
BEGIN:DAYLIGHT
TZOFFSETFROM:+0100
TZOFFSETTO:+0200
TZNAME:CEST
DTSTART:20190331T010000
END:DAYLIGHT
BEGIN:STANDARD
TZOFFSETFROM:+0200
TZOFFSETTO:+0100
TZNAME:CET
DTSTART:20191027T010000
END:STANDARD
BEGIN:DAYLIGHT
TZOFFSETFROM:+0100
TZOFFSETTO:+0200
TZNAME:CEST
DTSTART:20200329T010000
END:DAYLIGHT
BEGIN:STANDARD
TZOFFSETFROM:+0200
TZOFFSETTO:+0100
TZNAME:CET
DTSTART:20201025T010000
END:STANDARD
END:VTIMEZONE
BEGIN:VEVENT
DTSTART;TZID=Europe/Rome:20191016T200000
DTEND;TZID=Europe/Rome:20191016T200000
DTSTAMP:20260420T070807
CREATED:20190925T082031Z
LAST-MODIFIED:20190925T082126Z
UID:19710-1571256000-1571256000@modena.avisemiliaromagna.it
SUMMARY:Vignola\, torneo di burraco
DESCRIPTION:Partecipa anche tu al 1° torneo di Burraco di Avis Vignola! Ricorda di prenotare entro lunedì 14 ottobre telefonando a Elio Montebugnoli 3398299070 o Deanna 3299723480. \n 
URL:https://modena.avisemiliaromagna.it/eventi/vignola-torneo-di-burraco/
LOCATION:Modena
CATEGORIES:Avis Provinciale Modena,Avis Vignola
ATTACH;FMTTYPE=image/jpeg:https://modena.avisemiliaromagna.it/wp-content/uploads/2019/09/2019_10_16-Vignola-Torneo-Burraco.jpg
END:VEVENT
END:VCALENDAR