BEGIN:VCALENDAR
VERSION:2.0
PRODID:-//AVIS Provinciale Modena - ECPv6.15.13//NONSGML v1.0//EN
CALSCALE:GREGORIAN
METHOD:PUBLISH
X-WR-CALNAME:AVIS Provinciale Modena
X-ORIGINAL-URL:https://modena.avisemiliaromagna.it
X-WR-CALDESC:Eventi per AVIS Provinciale Modena
REFRESH-INTERVAL;VALUE=DURATION:PT1H
X-Robots-Tag:noindex
X-PUBLISHED-TTL:PT1H
BEGIN:VTIMEZONE
TZID:Europe/Rome
BEGIN:DAYLIGHT
TZOFFSETFROM:+0100
TZOFFSETTO:+0200
TZNAME:CEST
DTSTART:20180325T010000
END:DAYLIGHT
BEGIN:STANDARD
TZOFFSETFROM:+0200
TZOFFSETTO:+0100
TZNAME:CET
DTSTART:20181028T010000
END:STANDARD
BEGIN:DAYLIGHT
TZOFFSETFROM:+0100
TZOFFSETTO:+0200
TZNAME:CEST
DTSTART:20190331T010000
END:DAYLIGHT
BEGIN:STANDARD
TZOFFSETFROM:+0200
TZOFFSETTO:+0100
TZNAME:CET
DTSTART:20191027T010000
END:STANDARD
BEGIN:DAYLIGHT
TZOFFSETFROM:+0100
TZOFFSETTO:+0200
TZNAME:CEST
DTSTART:20200329T010000
END:DAYLIGHT
BEGIN:STANDARD
TZOFFSETFROM:+0200
TZOFFSETTO:+0100
TZNAME:CET
DTSTART:20201025T010000
END:STANDARD
BEGIN:DAYLIGHT
TZOFFSETFROM:+0100
TZOFFSETTO:+0200
TZNAME:CEST
DTSTART:20210328T010000
END:DAYLIGHT
BEGIN:STANDARD
TZOFFSETFROM:+0200
TZOFFSETTO:+0100
TZNAME:CET
DTSTART:20211031T010000
END:STANDARD
END:VTIMEZONE
BEGIN:VEVENT
DTSTART;TZID=Europe/Rome:20191109T160000
DTEND;TZID=Europe/Rome:20200125T130000
DTSTAMP:20260420T004315
CREATED:20191107T080831Z
LAST-MODIFIED:20200911T141218Z
UID:20231-1573315200-1579957200@modena.avisemiliaromagna.it
SUMMARY:Modena\, scatti d'autore
DESCRIPTION:Sabato 9 Novembre alle 16.00 è prevista l’inaugurazione della mostra fotografica di Paolo Pignatti dal titolo “Scatti d’autore”. Nelle sue foto troviamo giochi di luce e di colore inseriti in paesaggi urbani e architetture di palazzi storici oppure in  bellissime vedute naturali. \nLa mostra resterà aperta fino a\,l 25 gennaio\, dal lunedì al sabato dalle 7.30 alle 12.00 e la domenica dalle 7.30 alle 11.00. Info: 0593684911 \n\n\n\n    \n        \n            \n            \n                Depliant mostra fotografica di Paolo Pignatti\n                 1 file  2.16 MB\n            \n            \n                Download\n            \n        \n    \n\n\n\n \n  \n \n \n 
URL:https://modena.avisemiliaromagna.it/eventi/modena-scatti-dautore/
LOCATION:Modena
CATEGORIES:Avis Comunale Modena,Avis Provinciale Modena
ATTACH;FMTTYPE=image/jpeg:https://modena.avisemiliaromagna.it/wp-content/uploads/2019/11/Paolo-Pignatti-mostra-fografica-Avis-Modena-2019.jpg
END:VEVENT
END:VCALENDAR